BEGIN:VCALENDAR
VERSION:2.0
PRODID:-//eHealth Somalia - ECPv6.7.0//NONSGML v1.0//EN
CALSCALE:GREGORIAN
METHOD:PUBLISH
X-WR-CALNAME:eHealth Somalia
X-ORIGINAL-URL:https://healthfair.so
X-WR-CALDESC:Events for eHealth Somalia
REFRESH-INTERVAL;VALUE=DURATION:PT1H
X-Robots-Tag:noindex
X-PUBLISHED-TTL:PT1H
BEGIN:VTIMEZONE
TZID:UTC
BEGIN:STANDARD
TZOFFSETFROM:+0000
TZOFFSETTO:+0000
TZNAME:UTC
DTSTART:20240101T000000
END:STANDARD
END:VTIMEZONE
BEGIN:VEVENT
DTSTART;TZID=UTC:20241212T080000
DTEND;TZID=UTC:20241212T170000
DTSTAMP:20260421T015417
CREATED:20241005T204728Z
LAST-MODIFIED:20241005T204854Z
UID:202-1733990400-1734022800@healthfair.so
SUMMARY:Universal Health Coverage
DESCRIPTION:Universal Health Coverage\n\nThe Ministry of health in partnership with E-health Somalia organize Annual Universal health Coverage event with highly significant activities. These include intensified provision of essential health services throughout the country in a number of health facilities and in “health camps” for deprived communities\, such as the people displaced by the Climate related events. Information on the promotion of health and prevention of diseases isprovided in these sites\, as well as through a mass-media and social media campaign\, also aimed at increasing community awareness about their rights to health and raising people’s voices and active participation in a common effort to improve health\, as a shared responsibility. \nOn UHC day 12th of December the commemoration ceremony is organized\, attended by senior government officials\, private sector\, academia\, health professionals\, civil society\, donors and partners.  \nObjective\nThe objective of these UHC Days activities is firstly to link the national policies to actions that will further facilitate critical discussions on services delivery expansion across the country. Secondly\, it aims to increase awareness about the important of health for all\, universal health coverage\, among stakeholders in the sector and beyond. It aims to shed a light on the progress made so far\, opportunities and challenges in healthcare and health security. Finally\, it aims to bring communities closer to the health sector\, increase citizens’ ownership of services and awareness of their right to health\,  \nOutcome\n• Commemorate the UHC Day\, renew commitments\, share  achievement\, challenges and Opportunities of Somalia Health Sector \n• Bring together technical expertise and strategic views from the health authorities and the relevant health sector stakeholders\, to discuss ways forward for UHC in Somalia.  \n• Show country’s effort to progress toward Universal Health Coverage\n• Promote health and wellbeing\, prevention. Share information about country commitment to UHC\, progress and challenges.
URL:https://healthfair.so/event/universal-health-coverage/
ATTACH;FMTTYPE=image/png:https://healthfair.so/wp-content/uploads/2024/10/UHC-EVENT-COVER.png
END:VEVENT
END:VCALENDAR