BEGIN:VCALENDAR
VERSION:2.0
PRODID:-//eHealth Somalia - ECPv6.7.0//NONSGML v1.0//EN
CALSCALE:GREGORIAN
METHOD:PUBLISH
X-WR-CALNAME:eHealth Somalia
X-ORIGINAL-URL:https://healthfair.so
X-WR-CALDESC:Events for eHealth Somalia
REFRESH-INTERVAL;VALUE=DURATION:PT1H
X-Robots-Tag:noindex
X-PUBLISHED-TTL:PT1H
BEGIN:VTIMEZONE
TZID:UTC
BEGIN:STANDARD
TZOFFSETFROM:+0000
TZOFFSETTO:+0000
TZNAME:UTC
DTSTART:20250101T000000
END:STANDARD
END:VTIMEZONE
BEGIN:VEVENT
DTSTART;TZID=UTC:20250305T080000
DTEND;TZID=UTC:20250307T170000
DTSTAMP:20260421T034051
CREATED:20241005T204615Z
LAST-MODIFIED:20241010T083137Z
UID:199-1741161600-1741366800@healthfair.so
SUMMARY:Somali Health Exhibition & Conference
DESCRIPTION:Introduction \n\nWe are thrilled to announce the Somalia National Health Exhibition and Congress\, organized by E-Health in collaboration with the Ministry of Health – Somalia. This eminent event aspires to unite healthcare professionals\, policymakers\, and stakeholders\, fostering collaboration\, disseminating knowledge\, and highlighting innovative approaches to enhance healthcare provision in Somalia. \nObjective\n\nThe primary objective of the Somalia National Health Exhibition and Congress is to establish a robust platform that encourages networking\, knowledge exchange\, innovation\, and idea presentation in the following areas: \n• Promote Collaboration: Foster collaboration and networking among stakeholders in the health sector\, including healthcare professionals\, policymakers\, and representatives from the private sector.\n• Knowledge Sharing: Facilitate knowledge-sharing and discussions on key challenges and opportunities in the Somali health sector.\n• Showcase Innovation: Showcase innovative solutions and technologies that can enhance healthcare delivery in Somalia.\n• Exhibition Platform: Provide an opportunity for companies and organizations to exhibit their products and services related to the health sector.\n• Public Awareness: Promote public awareness and education on health-related issues in Somalia.\nMission\n\nAdvancing Somali health through education\, collaboration\, and innovation. Promoting awareness\, cultural sensitivity\, and advocating for equitable healthcare access. Fostering partnerships and empowering the Somali community for better health outcomes. \nExpected Outcomes\n\n1. Improved collaboration and networking among stakeholders in the health sector.\n2. Increased knowledge-sharing and discussions on key challenges and opportunities in the Somali health sector.\n3. Increased awareness and adoption of innovative solutions and technologies that can improve healthcare delivery in Somalia.\n4. Increased participation by companies and organizations in the health sector\, leading to increased investment and improved product service offerings.\n5. Increased public awareness and education on health-related issues in Somalia.\nConference Structure\n\nThe Somalia National Health Exhibition and Congress will span over several days and will feature a well-curated agenda comprising keynote speeches\, panel discussions\, interactive workshops\, and poster presentations. Additionally\, the conference will provide ample networking opportunities for all participants\, including dedicated exhibition space for organizations to showcase their products\, services\, and research. \nTarget Audience \nWe anticipate attracting a diverse range of participants \, including:\n\n• Government (Regulatory bodies and policymakers)\n• Public and Private Health Facilities\n• Healthcare professionals (doctors\, nurses\, pharmacists\, etc.)\n• Health technology companies and startups\n• Digital health entrepreneurs and innovators\n• Researchers and academicians\n• Investors and venture capitalists\nLocation and Logictics\n\nThe conference will take place at a designated venue in Mogadishu\, Somalia. The logistic services\, including registration\, airport pickup\, catering services\, audiovisual equipment\, and event management\, will be facilitated. \nPromotion and Partnerships\n\nTo ensure the success of the Somalia National Health Exhibition and Congress\, there will be a multi-faceted marketing and promotion strategy that includes online marketing campaigns\, email newsletters\, social media promotion\, direct outreach to relevant organizations\, and partnerships with industry associations and academic institutions. \nWhy Exhibit\n\n1. Brand Visibility: Showcase your brand to a targeted audience\, enhancing your organization’s profile and recognition.\n2. Networking: Connect directly with industry leaders\, potential partners\, and customers.\n3. Direct Sales Opportunities: Engage with attendees who have the potential to become customers or clients.\n4. Market Insights: Gain firsthand knowledge about current trends\, demands\, and gaps in the market.\n5. Product Launch: Introduce new products or services to a receptive and relevant audience.\n6. Feedback: Receive direct input and feedback on your products\, services\, or concepts from industry peers and potential customers.\n7. Positioning: Establish your organization as an industry leader and key player.\n8. Competitive Analysis: Observe and analyze what competitors are doing and identify unique selling points for your brand.\n9. Learning: Attend workshops\, seminars\, and talks that can provide knowledge beneficial for your business.\n10. Building Relationships: Foster and strengthen relationships with existing clients and cultivate new ones.\nWhy attend ?\n\n1. Education: Attend seminars\, workshops\, and talks by industry experts to expand your knowledge.\n2. Discover Innovations: Explore the latest products\, technologies\, and solutions in healthcare.\n3. Networking: Meet industry leaders\, peers\, and potential collaborators to expand your professional network.\n4. Trend Spotting: Stay updated with the latest trends and shifts in the healthcare industry.\n5. Hands-on Experience: Engage with interactive exhibits and live demonstrations.\n6. Personal Development: Attend training sessions or workshops tailored to individual career growth.\n7. Inspiration: Gather ideas and insights that can be applied to your profession or business.\n8. Exclusive Offers: Benefit from event-only discounts or promotions from exhibitors.\n9. Engage in Dialogues: Participate in discussions\, panels\, and Q&A sessions about pressing industry topics.\n10. Cultural Experience: Immerse in the local culture\, especially if the event attracts international attendees\, providing a rich cultural exchange.
URL:https://healthfair.so/event/somali-health-exhibition-conference/
LOCATION:Jazeera Palace Hotel\, Airport Road\, Mogadishu\, Banadir\, Somalia
ATTACH;FMTTYPE=image/png:https://healthfair.so/wp-content/uploads/2024/10/SHEC-2025-BANNER.png
END:VEVENT
BEGIN:VEVENT
DTSTART;TZID=UTC:20251015T080000
DTEND;TZID=UTC:20251015T170000
DTSTAMP:20260421T034051
CREATED:20241005T204012Z
LAST-MODIFIED:20241005T204325Z
UID:195-1760515200-1760547600@healthfair.so
SUMMARY:National Health Workforce Summit
DESCRIPTION:National Health Workforce Summit\n\nThe National Health Workforce Summit is an annual conference that brings together health professionals\, policymakers\, and stakeholders from across the country and outside the country to discuss issues related to the health workforce. \nThe summit provides a platform for attendees to share their experiences and knowledge\, exchange ideas\, and collaborate on solutions to challenges facing the health workforce. The concept for this year’s summit is “Building a Strong and Resilient Health Workforce for the country.” The theme highlights the importance of a well-trained\, diverse\, and adaptable health workforce in meeting the changing needs of the population and addressing current and future challenges in the healthcare system. The summit will feature a range of interactive sessions\, including plenary lectures\, panel discussions\, workshops\, and networking opportunities. These sessions will cover a variety of topics\, including workforce development\, diversity and inclusion\, health equity\, and innovation in healthcare delivery. The National Health Workforce Summit aims to promote dialogue and collaboration among attendees and to identify practical strategies and solutions for strengthening the health workforce. It is an opportunity for attendees to learn from experts and each other\, and to contribute to the development of a strong and resilient health workforce for the Country. \nPurpose of the Summit\n\n1. NHWFS Provide a platform for experts on HRH to share experiences as well as provide guidance and expertise on best practices\, policies and strategies for strengthening HRH policies and strategies (across the spectrum from doctors to community health workers) in Somalia. \n2. Create an opportunity for relevant stakeholders to discuss and agree on key strategies and policy pathways for improving HRH in Somalia in the short and medium term\nExpected Outcome\n\n1. Provide input into priority strategies and interventions for strengthening HRH in Somalia.  \n2. Define a policy process and road maps for developing a new HRH Policies and Strategic Plans\nMethodology\n\nThe National Health Workforce Summit will be held on 15-16 May\, at Mogadishu. This Annual conference brings together health professionals\, policy makers\, and stakeholders from across the country to discuss issues related to the health workforce and will feature a range of interactive sessions\, including plenary lectures\, panel discussions\, workshops\, and networking opportunities
URL:https://healthfair.so/event/national-health-workforce-summit/
ATTACH;FMTTYPE=image/png:https://healthfair.so/wp-content/uploads/2024/10/NHWFS.png
END:VEVENT
END:VCALENDAR